BEGIN:VCALENDAR
VERSION:2.0
PRODID:http://www.stmarien-neunkirchen.de
BEGIN:VEVENT
UID:041414cb-3ff8-11f1-a3e9-0242ac11002b-1777219200000-de
DTSTAMP:20260424T160947Z
DTSTART:20260426T160000Z
SUMMARY;LANGUAGE=de:Orgel .6:  Sebastian Benetello, Regionalkantor des Bistums Trier. 
DESCRIPTION;LANGUAGE=de:ORGEL.6 im ersten Halbjahr 2026 - Orgelkonzerte in St. Marien\, Neunkirchen\nOrgelmusik am fahrbaren Zentralspieltisch der Roethinger/Gaida/Binns-Orgel sonntags um 6: Die neue Konzertreihe wird auch im ersten Halbjahr 2026 fortgesetzt.\nVier prominente Gastorganisten aus dem Saarland konnten für die Abende gewonnen werden:\nDen Start macht zu Beginn am kommenden Sonntag\, 26.04.2026\, 18.00 Uhr\, Sebastian Benetello\, Regionalkantor des Bistums Trier mit Dienstsitz in Marpingen (Pfarrei Maria Königin des Friedens). Er spielt Orgelwerke u.a. von Mussorgski\, Stockhausen und Elgar.\nSebastian Benetello (*1985) ist Organist\, Improvisator und Dirigent. Er studierte Musikerziehung bis zum Vordiplom sowie katholische Kirchenmusik (B- und A-Examen) bei Wolfgang Rübsam\, Andreas Rothkopf (Orgel)\, Theo Brandmüller (Improvisation) und Andreas Göpfert (Chorleitung). Ein anschließendes Dirigierstudium absolvierte er bei Toshiyuki Kamioka.\n2014 legte er die Konzertreifeprüfung im Fach Orgel bei Andreas Rothkopf mit Auszeichnung ab. Seine improvisatorische Ausbildung vertiefte er in zahlreichen Masterclasses und Excellence Classes\, unter anderem bei Franz Danksagmüller\, Ansgar Wallenhorst\, Hayo Boerema und Thomas Lacôte. Von 2016 bis 2021 absolvierte er Privatstudien im Bereich zeitgenössische Orgelimprovisation bei Zuzana Ferjencikova.\nSeine künstlerische Tätigkeit als Improvisator führte ihn wiederholt zur Qualifikation für den Internationalen Wettbewerb für Orgelimprovisation in Haarlem (NL) in den Jahren 2020\, 2022 und 2024.\nSeit 2015 ist Sebastian Benetello Regionalkantor im Bistum Trier in Marpingen und als Kantor an der Pfarrkirche Maria Himmelfahrt tätig.\nNeben seiner kirchenmusikalischen Arbeit ist er seit 2024 Lehrbeauftragter für Liturgisches Orgelspiel und Orgelimprovisation an der Hochschule für Musik Saar.\nDer Eintritt ist frei\, Spenden sind willkommen.\nUnterstützt wird die Reihe vom Förderverein „Musikfreunde St. Marien“.\nWeitere Infos unter https://www.marienmusik-neunkirchen.de/
LOCATION;LANGUAGE=de:Pfarrkirche St. Marien\, Neunkirchen / Saar\, Marienplatz 1\, 66538 Neunkirchen
IMAGE;VALUE=URI;DISPLAY=BADGE;FMTTYPE=image/jpeg:http://www.stmarien-neunkirchen.de/export/sites/pfarreien/pfarrei-st.-marien-neunkirchen-saar/.galleries/sonstiges/Sebastian-Benetello-by-Jean-Laffitau.jpg
END:VEVENT
END:VCALENDAR
