BEGIN:VCALENDAR
VERSION:2.0
PRODID:http://www.stmarien-neunkirchen.de
BEGIN:VEVENT
UID:1b79bc14-3ffb-11f1-a3e9-0242ac11002b-1779638400000-de
DTSTAMP:20260424T163155Z
DTSTART:20260524T160000Z
SUMMARY;LANGUAGE=de:Orgel .6 Orgelmusik für 4 Händen und 4 Füßen
DESCRIPTION;LANGUAGE=de:Am Pfingstsonntag\, 24.05.2026\, 18.00 Uhr\, setzen Markus Schaubel\, Regionalkantor des Bistums Trier mit Dienstsitz in Saarlouis (Kirche St. Ludwig) und Tobias Rihm aus Merchweiler die Konzertreihe fort mit Orgelmusik zu 4 Händen und 4 Füßen u.a. von Mozart\, Merkel\, Saint-Saëns. Das Konzert findet statt im Rahmen der „Nacht der Kirchen Saar“.\nDer Eintritt ist frei\, Spenden sind willkommen.\nUnterstützt wird die Reihe vom Förderverein „Musikfreunde St. Marien“.\nWeitere Infos unter https://www.marienmusik-neunkirchen.de/
LOCATION;LANGUAGE=de:Pfarrkirche St. Marien\, Neunkirchen / Saar\, Marienplatz 1\, 66538 Neunkirchen
IMAGE;VALUE=URI;DISPLAY=BADGE;FMTTYPE=image/jpeg:http://www.stmarien-neunkirchen.de/export/sites/pfarreien/pfarrei-st.-marien-neunkirchen-saar/.galleries/Roethinger-Orgel/Chororgel-und-Spieltisch-St.Marien-Neunkirchen.jpg
END:VEVENT
END:VCALENDAR
