BEGIN:VCALENDAR
VERSION:2.0
PRODID:http://www.stmarien-neunkirchen.de
BEGIN:VEVENT
UID:ce9f3f31-3ffb-11f1-a3e9-0242ac11002b-1782057600000-de
DTSTAMP:20260424T163656Z
DTSTART:20260621T160000Z
SUMMARY;LANGUAGE=de:Orgel .6: Kompositionen saarländischer Komponisten und Kirchenmusiker
DESCRIPTION;LANGUAGE=de:Armin Lamar\, ebenfalls Regionalkantor des Bistums Trier mit Dienstsitz in Saarbrücken (Kirche Christkönig)\, spielt am Sonntag\, 21.06.2026\, 18.00 Uhr\, u.a. Kompositionen saarländischer Komponisten und Kirchenmusiker: Thomas Vogtel (Sonata-Oranna)\, Wolfgang Trost (Sechs Legenden über den Heiligen Franziskus)\, Paul Burgard\, Klaus Fischbach.\nDer Eintritt ist frei\, Spenden sind willkommen.\nUnterstützt wird die Reihe vom Förderverein „Musikfreunde St. Marien“.\nWeitere Infos unter https://www.marienmusik-neunkirchen.de/
LOCATION;LANGUAGE=de:Pfarrkirche St. Marien\, Neunkirchen / Saar\, Marienplatz 1\, 66538 Neunkirchen
IMAGE;VALUE=URI;DISPLAY=BADGE;FMTTYPE=image/jpeg:http://www.stmarien-neunkirchen.de/export/sites/pfarreien/pfarrei-st.-marien-neunkirchen-saar/.galleries/Roethinger-Orgel/ZST_zentral_2.jpg
END:VEVENT
END:VCALENDAR
